{
 "currentVersion": 10.71,
 "serviceDescription": "",
 "mapName": "Layers",
 "description": "",
 "copyrightText": "",
 "supportsDynamicLayers": true,
 "layers": [
  {
   "id": 0,
   "name": "ORTOS 2021",
   "parentLayerId": -1,
   "defaultVisibility": true,
   "subLayerIds": null,
   "minScale": 0,
   "maxScale": 0,
   "type": "Raster Layer"
  }
 ],
 "tables": [],
 "spatialReference": {
  "wkid": 3763,
  "latestWkid": 3763,
  "vcsWkid": 5780,
  "latestVcsWkid": 5780
 },
 "singleFusedMapCache": true,
 "tileInfo": {
  "rows": 256,
  "cols": 256,
  "dpi": 96,
  "format": "MIXED",
  "compressionQuality": 75,
  "origin": {
   "x": -5623200,
   "y": 5609400
  },
  "spatialReference": {
   "wkid": 3763,
   "latestWkid": 3763,
   "vcsWkid": 5780,
   "latestVcsWkid": 5780
  },
  "lods": [
   {
    "level": 0,
    "resolution": 79.37515875031751,
    "scale": 300000
   },
   {
    "level": 1,
    "resolution": 52.91677250021167,
    "scale": 200000
   },
   {
    "level": 2,
    "resolution": 39.687579375158755,
    "scale": 150000
   },
   {
    "level": 3,
    "resolution": 26.458386250105836,
    "scale": 100000
   },
   {
    "level": 4,
    "resolution": 19.843789687579378,
    "scale": 75000
   },
   {
    "level": 5,
    "resolution": 13.229193125052918,
    "scale": 50000
   },
   {
    "level": 6,
    "resolution": 6.614596562526459,
    "scale": 25000
   },
   {
    "level": 7,
    "resolution": 2.6458386250105836,
    "scale": 10000
   },
   {
    "level": 8,
    "resolution": 1.9843789687579376,
    "scale": 7500
   },
   {
    "level": 9,
    "resolution": 1.3229193125052918,
    "scale": 5000
   },
   {
    "level": 10,
    "resolution": 0.7937515875031751,
    "scale": 3000
   },
   {
    "level": 11,
    "resolution": 0.5291677250021167,
    "scale": 2000
   },
   {
    "level": 12,
    "resolution": 0.26458386250105836,
    "scale": 1000
   },
   {
    "level": 13,
    "resolution": 0.13229193125052918,
    "scale": 500
   },
   {
    "level": 14,
    "resolution": 0.06614596562526459,
    "scale": 250
   }
  ]
 },
 "initialExtent": {
  "xmin": -46344.81520891841,
  "ymin": 56822.63788044387,
  "xmax": -7398.0706487626085,
  "ymax": 78783.09846803172,
  "spatialReference": {
   "wkid": 3763,
   "latestWkid": 3763,
   "vcsWkid": 5780,
   "latestVcsWkid": 5780
  }
 },
 "fullExtent": {
  "xmin": -47138.69423225298,
  "ymin": 46676.91874491956,
  "xmax": -6445.696179590199,
  "ymax": 77603.59726494327,
  "spatialReference": {
   "wkid": 3763,
   "latestWkid": 3763,
   "vcsWkid": 5780,
   "latestVcsWkid": 5780
  }
 },
 "minScale": 300000,
 "maxScale": 250,
 "minLOD": 0,
 "maxLOD": 14,
 "units": "esriMeters",
 "supportedImageFormatTypes": "PNG32,PNG24,PNG,JPG,DIB,TIFF,EMF,PS,PDF,GIF,SVG,SVGZ,BMP",
 "documentInfo": {
  "Title": "",
  "Author": "",
  "Comments": "",
  "Subject": "",
  "Category": "",
  "AntialiasingMode": "None",
  "TextAntialiasingMode": "Force",
  "Keywords": ""
 },
 "capabilities": "Map,Query,Data",
 "supportedQueryFormats": "JSON, geoJSON",
 "exportTilesAllowed": false,
 "datumTransformations": [
  {
   "geoTransforms": [
    {
     "wkid": 108001,
     "latestWkid": 1241,
     "transformForward": true,
     "name": "NAD_1927_To_NAD_1983_NADCON"
    }
   ]
  },
  {
   "geoTransforms": [
    {
     "wkid": 108001,
     "latestWkid": 1241,
     "transformForward": false,
     "name": "NAD_1927_To_NAD_1983_NADCON"
    }
   ]
  }
 ],
 "supportsDatumTransformation": true,
 "maxRecordCount": 1000,
 "maxImageHeight": 4096,
 "maxImageWidth": 4096,
 "supportedExtensions": ""
}
